BEGIN:VCALENDAR
VERSION:2.0
PRODID:-//LIMAK Website - ECPv5.16.1.1//NONSGML v1.0//EN
CALSCALE:GREGORIAN
METHOD:PUBLISH
X-WR-CALNAME:LIMAK Website
X-ORIGINAL-URL:https://www.limak.at
X-WR-CALDESC:Veranstaltungen für LIMAK Website
BEGIN:VTIMEZONE
TZID:Europe/Vienna
BEGIN:DAYLIGHT
TZOFFSETFROM:+0100
TZOFFSETTO:+0200
TZNAME:CEST
DTSTART:20230326T010000
END:DAYLIGHT
BEGIN:STANDARD
TZOFFSETFROM:+0200
TZOFFSETTO:+0100
TZNAME:CET
DTSTART:20231029T010000
END:STANDARD
END:VTIMEZONE
BEGIN:VEVENT
DTSTART;TZID=Europe/Vienna:20230907T170000
DTEND;TZID=Europe/Vienna:20230907T210000
DTSTAMP:20260421T121209
CREATED:20230713T085103Z
LAST-MODIFIED:20230810T092519Z
UID:66881-1694106000-1694120400@www.limak.at
SUMMARY:After Work Info Lounge und Netzwerkevent Linz
DESCRIPTION:[vc_row][vc_column width=”1/3″][vc_empty_space][/vc_column][vc_column width=”2/3″ mobile_bg_img_hidden=”no” tablet_bg_img_hidden=”no” woodmart_parallax=”0″ woodmart_sticky_column=”false” el_class=”text-col-event” parallax_scroll=”no” mobile_reset_margin=”no” tablet_reset_margin=”no”][vc_custom_heading text=”After Work Info Lounge und Netzwerkevent Linz”][vc_column_text text_larger=”no”]Sie interessieren sich für eine Top-Weiterbildung? Wir laden Sie am 7. September 2023 um 17:00h zur LIMAK After Work Info Lounge ein. Lassen Sie sich unter dem Motto „Lifelong Learning for Leaders“ von unseren Expert*innen für Ihr neuestes Weiterbildungsprojekt inspirieren. \n  \nErfahren Sie\, welche aktuellen Themen und Formate die LIMAK bietet und nutzen Sie die Chance unser Angebot im persönlichen Gespräch kennen zu lernen. \n  \nZudem haben Sie die einmalige Möglichkeit\, sich im Anschluss an die Info Lounge an einem spätsommerlichen\, gemütlichen Abend mit Rahmenprogramm bei unserem Netzwerkevent auszutauschen. Dort können Sie sich unter anderem mit aktuellen Teilnehmer*innen\, Absolvent*innen und Faculty-Mitgliedern treffen und direkte Erfahrungsberichte erhalten. \n  \n  \nTERMIN und PROGRAMM: \nDonnerstag\, 7. September 2023 \n17:00 Uhr: Beginn Info Lounge und Vorstellung der LIMAK Programme \n18:30 Uhr: Beginn Netzwerkevent mit Wirtschaftskabarett \n  \n  \nORT: \nLIMAK Räumlichkeiten im Science Park 5 am Campus der Johannes Kepler Universität (Altenbergerstraße 69\, 4040 Linz)[/vc_column_text][vc_column_text text_larger=”no”]Da wir nur über eine begrenzte Anzahl von Teilnehmer*innenplätzen verfügen\, bitten wir um eine rasche Anmeldung.[/vc_column_text][vc_empty_space][/vc_column][/vc_row][vc_row disable_element=”yes” mobile_bg_img_hidden=”no” tablet_bg_img_hidden=”no” woodmart_parallax=”0″ woodmart_gradient_switch=”no” row_reverse_mobile=”0″ row_reverse_tablet=”0″ woodmart_disable_overflow=”0″][vc_column width=”1/4″ mobile_bg_img_hidden=”no” tablet_bg_img_hidden=”no” woodmart_parallax=”0″ woodmart_sticky_column=”false” el_class=”text-col-event” parallax_scroll=”no” mobile_reset_margin=”no” tablet_reset_margin=”no”][vc_single_image image=”60075″ img_size=”medium” parallax_scroll=”no”][/vc_column][vc_column width=”3/4″][vc_column_text text_larger=”no”]Werden Sie jetzt Teil des LIMAK Netzwerks und lernen Sie von und mit den Besten! \n  \nUniversitätslehrgang Leadership Experience \nProgrammstart: 06.10.2022 \n>> Details zum Programm \n  \nMaster in Management (MIM) Leadership Excellence and New Work \nProgrammstart: 04.11.2022 \n>> Details zum Programm \n[/vc_column_text][/vc_column][/vc_row][vc_row][vc_column width=”1/3″][/vc_column][vc_column width=”2/3″ mobile_bg_img_hidden=”no” tablet_bg_img_hidden=”no” woodmart_parallax=”0″ woodmart_sticky_column=”false” el_class=”text-col-event” parallax_scroll=”no” mobile_reset_margin=”no” tablet_reset_margin=”no”][vc_empty_space][/vc_column][/vc_row][vc_row][vc_column width=”1/3″][vc_empty_space][/vc_column][vc_column width=”2/3″][vc_empty_space height=”64px” woodmart_hide_large=”0″ woodmart_hide_medium=”0″ woodmart_hide_small=”0″ woodmart_hide_extra_small=”0″][vc_custom_heading text=”Anmeldung”][/vc_column][/vc_row]
URL:https://www.limak.at/veranstaltung/after-work-info-lounge-und-netzwerkevent-linz/
LOCATION:LIMAK Standort Linz\, Science Park 5\, Altenbergerstraße 69\, Linz\, 4020\, Österreich
CATEGORIES:Programme
ATTACH;FMTTYPE=image/jpeg:https://www.limak.at/wp-content/uploads/2023/07/Netwerkveranstaltung_Linz_1200x1200_3.jpg
END:VEVENT
END:VCALENDAR