BEGIN:VCALENDAR
VERSION:2.0
PRODID:-//LIMAK Website - ECPv5.16.1.1//NONSGML v1.0//EN
CALSCALE:GREGORIAN
METHOD:PUBLISH
X-WR-CALNAME:LIMAK Website
X-ORIGINAL-URL:https://www.limak.at
X-WR-CALDESC:Veranstaltungen für LIMAK Website
BEGIN:VTIMEZONE
TZID:Europe/Vienna
BEGIN:DAYLIGHT
TZOFFSETFROM:+0100
TZOFFSETTO:+0200
TZNAME:CEST
DTSTART:20230326T010000
END:DAYLIGHT
BEGIN:STANDARD
TZOFFSETFROM:+0200
TZOFFSETTO:+0100
TZNAME:CET
DTSTART:20231029T010000
END:STANDARD
END:VTIMEZONE
BEGIN:VEVENT
DTSTART;TZID=Europe/Vienna:20230613T180000
DTEND;TZID=Europe/Vienna:20230613T191500
DTSTAMP:20260424T201332
CREATED:20230531T055750Z
LAST-MODIFIED:20240328T172006Z
UID:64167-1686679200-1686683700@www.limak.at
SUMMARY:Aktuelle volks- und finanzwirtschaftliche Entwicklungen und die Auswirkungen für Unternehmen
DESCRIPTION:[vc_row][vc_column width=”1/3″][vc_widget_sidebar sidebar_id=”programmfinder1″][/vc_column][vc_column width=”2/3″ mobile_bg_img_hidden=”no” tablet_bg_img_hidden=”no” woodmart_parallax=”0″ woodmart_sticky_column=”false” el_class=”text-col-event” parallax_scroll=”no” mobile_reset_margin=”no” tablet_reset_margin=”no”][vc_column_text text_larger=”no”]Stefan Fink und Teodoro Cocca \nModeration: Dietmar Mascher[/vc_column_text][vc_custom_heading text=”Aktuelle volks- und finanzwirtschaftliche Entwicklungen und die Auswirkungen für Unternehmen” link=”url:http%3A%2F%2FWeitere%20Informationen%20zum%201.%20Management%20Spotlights%20Event%20live%20finden%20Sie%20hier.”][/vc_column][/vc_row][vc_row][vc_column width=”1/3″][vc_widget_sidebar sidebar_id=”programmfinder1″][/vc_column][vc_column width=”2/3″ mobile_bg_img_hidden=”no” tablet_bg_img_hidden=”no” woodmart_parallax=”0″ woodmart_sticky_column=”false” el_class=”text-col-event” parallax_scroll=”no” mobile_reset_margin=”no” tablet_reset_margin=”no”][vc_column_text text_larger=”no”]Weitere Informationen zum 1. Management Spotlights Event live finden Sie hier.[/vc_column_text][/vc_column][/vc_row]
URL:https://www.limak.at/veranstaltung/aktuelle-volks-und-finanzwirtschaftliche-entwicklungen-und-die-auswirkungen-fuer-unternehmen/
CATEGORIES:Online,Spotlight
ATTACH;FMTTYPE=image/jpeg:https://www.limak.at/wp-content/uploads/2023/03/FInkCocca-e1685535731470.jpg
END:VEVENT
END:VCALENDAR