BEGIN:VCALENDAR
VERSION:2.0
PRODID:-//LIMAK Website - ECPv5.16.1.1//NONSGML v1.0//EN
CALSCALE:GREGORIAN
METHOD:PUBLISH
X-WR-CALNAME:LIMAK Website
X-ORIGINAL-URL:https://www.limak.at
X-WR-CALDESC:Veranstaltungen für LIMAK Website
BEGIN:VTIMEZONE
TZID:Europe/Vienna
BEGIN:DAYLIGHT
TZOFFSETFROM:+0100
TZOFFSETTO:+0200
TZNAME:CEST
DTSTART:20240331T010000
END:DAYLIGHT
BEGIN:STANDARD
TZOFFSETFROM:+0200
TZOFFSETTO:+0100
TZNAME:CET
DTSTART:20241027T010000
END:STANDARD
END:VTIMEZONE
BEGIN:VEVENT
DTSTART;TZID=Europe/Vienna:20240124T183000
DTEND;TZID=Europe/Vienna:20240124T210000
DTSTAMP:20260422T081308
CREATED:20231219T093725Z
LAST-MODIFIED:20240111T155204Z
UID:68766-1706121000-1706130000@www.limak.at
SUMMARY:Jahresauftaktveranstaltung LIMAK Club - 24.01.2024
DESCRIPTION:[vc_row][vc_column width=”1/3″][vc_widget_sidebar sidebar_id=”programmfinder1″][/vc_column][vc_column width=”2/3″ mobile_bg_img_hidden=”no” tablet_bg_img_hidden=”no” woodmart_parallax=”0″ woodmart_sticky_column=”false” el_class=”text-col-event” parallax_scroll=”no” mobile_reset_margin=”no” tablet_reset_margin=”no”][vc_custom_heading text=”Jahresauftaktveranstaltung LIMAK Club”][vc_column_text text_larger=”no”] \n\nSmart Selling: \nDie Revolution durch Künstliche Intelligenz in Marketing & Vertrieb \nMittwoch\, 24. Jänner 2024\, 19:00 Uhr (Get-Together 18:30 Uhr) \nOberbank Donau Forum\, Untere Donaulände 28\, 4020 Linz \n  \nBegrüßung und Einleitung: \nMag.a Isabella Lehner\, MBA (Vorständin Oberbank AG) \nUniv.-Prof. Dr. Christoph Teller (Präsident des Marketing Clubs Linz\, Vorstand des Instituts für Handel\, Absatz und Marketing an der JKU) \n  \nKeynote: \nIng. Peter Huber (Manager\, Coach\, Vortragsredner und geschäftsführender Gesellschafter). Als Unter­nehmensberater und systemischer Coach begleitet er Unternehmen in der DACH-Region im digitalen Wandel. Zudem ist er Faculty-Member im Executive MBA Programm der LIMAK. \n  \n\nPodiumsdiskussion: \nMag. Dr. Julia Zukrigl (DATA story LAB\, Co-founder Women in AI Austria) \nYves Underwood (Microsoft Ö) \n  \nZur Keynote:\nSie erfahren wie KI-Initiativen ein Momentum im Unternehmen entfachen – und damit sind sie nicht nur ein Wegbereiter für operative Exzellenz\, sondern spielen auch eine zentrale Rolle beim Knüpfen nachhaltiger Kundenbeziehungen in der modernen Geschäftswelt. Lebendige Beispiele und inspirierende Erfolgsgeschichten werden ermutigen\, nicht nur Beobachter\, sondern aktive Gestalter der digitalen Revolution zu sein. \n  \nExklusives Event für LIMAK Club Mitglieder! \nAufgrund der begrenzten Teilnehmerzahl bitten wir um Anmeldung bis spätestens 16. Jänner 2024 unter club@limak.jku.at.[/vc_column_text][/vc_column][/vc_row][vc_row][vc_column][vc_column_text][/vc_column_text][/vc_column][/vc_row]
URL:https://www.limak.at/veranstaltung/jahresauftaktveranstaltung-limak-club-24-01-2024/
LOCATION:Oberbank Donau Forum\, Untere Donaulände 28\, Linz\, 4020
CATEGORIES:Club
ATTACH;FMTTYPE=image/jpeg:https://www.limak.at/wp-content/uploads/2023/12/STK_0720_square.jpg
END:VEVENT
END:VCALENDAR