BEGIN:VCALENDAR
VERSION:2.0
PRODID:-//LIMAK Website - ECPv5.16.1.1//NONSGML v1.0//EN
CALSCALE:GREGORIAN
METHOD:PUBLISH
X-WR-CALNAME:LIMAK Website
X-ORIGINAL-URL:https://www.limak.at
X-WR-CALDESC:Veranstaltungen für LIMAK Website
BEGIN:VTIMEZONE
TZID:Europe/Vienna
BEGIN:DAYLIGHT
TZOFFSETFROM:+0100
TZOFFSETTO:+0200
TZNAME:CEST
DTSTART:20210328T010000
END:DAYLIGHT
BEGIN:STANDARD
TZOFFSETFROM:+0200
TZOFFSETTO:+0100
TZNAME:CET
DTSTART:20211031T010000
END:STANDARD
END:VTIMEZONE
BEGIN:VEVENT
DTSTART;TZID=Europe/Vienna:20211005T080000
DTEND;TZID=Europe/Vienna:20211005T170000
DTSTAMP:20260424T082037
CREATED:20210624T133912Z
LAST-MODIFIED:20240328T172313Z
UID:46647-1633420800-1633453200@www.limak.at
SUMMARY:Management Spotlight - Art Thinking – der neue Zugang zur Vision
DESCRIPTION:[vc_row][vc_column width=”1/3″][vc_widget_sidebar sidebar_id=”programmfinder1″][/vc_column][vc_column width=”2/3″ mobile_bg_img_hidden=”no” tablet_bg_img_hidden=”no” woodmart_parallax=”0″ woodmart_sticky_column=”false” el_class=”text-col-event” parallax_scroll=”no” mobile_reset_margin=”no” tablet_reset_margin=”no”][vc_column_text text_larger=”no”] \nHORST HÖRTNER\nCTO & Managing Director des Ars Electronica Futurelab\n[/vc_column_text][vc_custom_heading text=”Art Thinking – der neue Zugang zur Vision”][vc_column_text text_larger=”no”] \n\n\n\n\n\n\n\n\nTransdisziplinarität und der Ausbruch aus seinen Peer Groups – Ist die Zielgruppe der Zukunft die globale Gesellschaft?\nDigitaler Humanismus – Gibt es einen Weg in die digitale Gesellschaft\, der Wettbewerbsfähigkeit und Wertschöpfung garantiert und gleichzeitig europäischen Werten verpflichtet ist?\nArt Thinking – Wie kann Kunst dabei helfen neue Wege zu beschreiten?\n\n\n\n\n\n\n\n\n[/vc_column_text][/vc_column][/vc_row]
URL:https://www.limak.at/veranstaltung/management-spotlight-art-thinking-der-neue-zugang-zur-vision/
CATEGORIES:Online,Spotlight
ATTACH;FMTTYPE=image/jpeg:https://www.limak.at/wp-content/uploads/2021/06/Hoertner-e1619512260179.jpg
END:VEVENT
END:VCALENDAR